BEGIN:VCALENDAR
VERSION:2.0
PRODID:-//Christian Budgeting New Zealand - ECPv6.15.13//NONSGML v1.0//EN
CALSCALE:GREGORIAN
METHOD:PUBLISH
X-WR-CALNAME:Christian Budgeting New Zealand
X-ORIGINAL-URL:https://cbnz.org.nz
X-WR-CALDESC:Events for Christian Budgeting New Zealand
REFRESH-INTERVAL;VALUE=DURATION:PT1H
X-Robots-Tag:noindex
X-PUBLISHED-TTL:PT1H
BEGIN:VTIMEZONE
TZID:Pacific/Auckland
BEGIN:STANDARD
TZOFFSETFROM:+1300
TZOFFSETTO:+1200
TZNAME:NZST
DTSTART:20200404T140000
END:STANDARD
BEGIN:DAYLIGHT
TZOFFSETFROM:+1200
TZOFFSETTO:+1300
TZNAME:NZDT
DTSTART:20200926T140000
END:DAYLIGHT
BEGIN:STANDARD
TZOFFSETFROM:+1300
TZOFFSETTO:+1200
TZNAME:NZST
DTSTART:20210403T140000
END:STANDARD
BEGIN:DAYLIGHT
TZOFFSETFROM:+1200
TZOFFSETTO:+1300
TZNAME:NZDT
DTSTART:20210925T140000
END:DAYLIGHT
BEGIN:STANDARD
TZOFFSETFROM:+1300
TZOFFSETTO:+1200
TZNAME:NZST
DTSTART:20220402T140000
END:STANDARD
BEGIN:DAYLIGHT
TZOFFSETFROM:+1200
TZOFFSETTO:+1300
TZNAME:NZDT
DTSTART:20220924T140000
END:DAYLIGHT
BEGIN:STANDARD
TZOFFSETFROM:+1300
TZOFFSETTO:+1200
TZNAME:NZST
DTSTART:20230401T140000
END:STANDARD
BEGIN:DAYLIGHT
TZOFFSETFROM:+1200
TZOFFSETTO:+1300
TZNAME:NZDT
DTSTART:20230923T140000
END:DAYLIGHT
END:VTIMEZONE
BEGIN:VEVENT
DTSTART;TZID=Pacific/Auckland:20220330T080000
DTEND;TZID=Pacific/Auckland:20220330T170000
DTSTAMP:20260425T110201
CREATED:20220330T030048Z
LAST-MODIFIED:20220330T030048Z
UID:5256-1648627200-1648659600@cbnz.org.nz
SUMMARY:Perspective of a Debt Collector
DESCRIPTION:Presentation by Mark Francis\, CEO of Debt Managers\, formerly Intercoll. \n 
URL:https://cbnz.org.nz/event/perspective-of-a-debt-collector/
ATTACH;FMTTYPE=image/jpeg:https://cbnz.org.nz/wp-content/uploads/2022/03/Copy-of-Case-Study-Facebook-Event-Cover.jpg
END:VEVENT
BEGIN:VEVENT
DTSTART;TZID=Pacific/Auckland:20220330T080000
DTEND;TZID=Pacific/Auckland:20220330T170000
DTSTAMP:20260425T110201
CREATED:20220330T025258Z
LAST-MODIFIED:20220330T025258Z
UID:5251-1648627200-1648659600@cbnz.org.nz
SUMMARY:Let's Talk About Debt Solutions
DESCRIPTION:Join Christine from Debtfix\, to discuss “Let’s Talk About Debt Solutions” on Wednesday 4 May\, at 12.30 pm\, via Zoom. \nRegister online today
URL:https://cbnz.org.nz/event/lets-talk-about-debt-solutions/
END:VEVENT
BEGIN:VEVENT
DTSTART;TZID=Pacific/Auckland:20211108T080000
DTEND;TZID=Pacific/Auckland:20211108T170000
DTSTAMP:20260425T110201
CREATED:20211107T215933Z
LAST-MODIFIED:20211107T232505Z
UID:5229-1636358400-1636390800@cbnz.org.nz
SUMMARY:Solution Messaging\, Stress and Time Management
DESCRIPTION:Special Training Day for Financial Mentors\nLearn positive messaging\, show how to plan backwards\, build up their resilience and learn how to manage stress in this special training day\, led by Human Factors Expert\, Ross Gilmour.  Skills learned may be useful for both your client and yourself. \nThis is a practical\, fun workshop during which you may learn new skills that could be useful to both you and your client\, or become more confident in these areas. Ross’ training is always engaging\, informative\, fun and entertaining\, with attendees often wanting just to ‘learn more’. \nWorkshop One: Solution Messaging: \n\nHow to explain solution messaging principles to clients in ways that they will relate to\nHow to coach clients to apply the skills at work\, in their private life and\, in particular\, to be effective at managing money\nHow to encourage clients to continue to apply the techniques even when they only seem to be having minimal success\nHow to explain the concept of Planning Backwards to clients in ways that they will relate to\nHow to coach clients to apply the Planning Backwards technique to achieve work\, personal and financial goals\n\nWorkshop Two: Stress and Time Management: \n\nHow to apply Solution Messaging Principles and the Planning Backwards Technique to stress and time management\nA conceptual model of stress which explains why it’s difficult to prove that a person’s stress related symptoms are caused by work\nHow the symptoms of stress can generate additional stress\nThe comfort zone model of stress and the implications of model for managing stress\nRecognising signs and symptoms of stress in yourself and others and why people may genuinely not notice how stressed they are\nManaging the physical symptoms of stress\nWhy exercise is a useful stress management tool\nWhy knowing where you spend your time is just as important as knowing where you spend your money and why the intermittent use of ‘time logs’ can be so valuable\nThe concept of discretionary versus reactionary time and why it’s important to book discretionary time into your diary\nEffective strategies for managing emails\nEffective strategies for managing social media\nWhy people procrastinate and strategies for overcoming it\n\nNumbers are strictly limited\, so please register early. \nCost: $55 per person\, which includes a light lunch. \nBookings are essential. (Cancellations for full refund must be received 7 days in advance). \nRegister Now
URL:https://cbnz.org.nz/event/solution-messaging-stress-and-time-management/
ATTACH;FMTTYPE=image/png:https://cbnz.org.nz/wp-content/uploads/2020/01/Ross.png
END:VEVENT
BEGIN:VEVENT
DTSTART;TZID=Pacific/Auckland:20210830T094500
DTEND;TZID=Pacific/Auckland:20210830T094500
DTSTAMP:20260425T110201
CREATED:20210728T023856Z
LAST-MODIFIED:20210728T031343Z
UID:5206-1630316700-1630316700@cbnz.org.nz
SUMMARY:MoneyMates Kickstarter - Christchurch
DESCRIPTION:HAVE YOU DELIVERED MONEYMATES? NERVOUS ABOUT PRESENTING IT? OR JUST NEED A REFRESHER? \nIF SO\, THIS ONE DAY TRAINING EVENT IS FOR YOU. \nBecome part of our the BFC growing network of excited MoneyMates practitioners. \nThis will be a working hui with case-studies\, your personal presentations\, review of resources and marketing and how you can support each other regionally. Each session will have a minimum of six participants and a maximum of twelve\, and will be from 9.45am – 3.00pm. \nFacilitator: Alyson de Marco (Manager Tamaki Budgeting\, CBNZ Executive Committee\, and ‘Queen of MoneyMates’\, )\nHosted by: CBNZ Inc\nPlease register early to ensure a place as spaces are limited.
URL:https://cbnz.org.nz/event/moneymates-kickstarter-christchurch/
ATTACH;FMTTYPE=image/jpeg:https://cbnz.org.nz/wp-content/uploads/2021/07/helps-promote-the-rights-of-the-world’s-indigenous-peoples..jpg
END:VEVENT
BEGIN:VEVENT
DTSTART;TZID=Pacific/Auckland:20210823T094500
DTEND;TZID=Pacific/Auckland:20210823T150000
DTSTAMP:20260425T110201
CREATED:20210728T023719Z
LAST-MODIFIED:20210728T031517Z
UID:5203-1629711900-1629730800@cbnz.org.nz
SUMMARY:MoneyMates Kickstarter - Cannon's Creek
DESCRIPTION:HAVE YOU DELIVERED MONEYMATES? NERVOUS ABOUT PRESENTING IT? OR JUST NEED A REFRESHER? \nIF SO\, THIS ONE DAY TRAINING EVENT IS FOR YOU. \nBecome part of our the BFC growing network of excited MoneyMates practitioners. \nThis will be a working hui with case-studies\, your personal presentations\, review of resources and marketing and how you can support each other regionally. Each session will have a minimum of six participants and a maximum of twelve\, and will be from 9.45am – 3.00pm. \nFacilitator: Alyson de Marco (Manager Tamaki Budgeting\, CBNZ Executive Committee\, and ‘Queen of MoneyMates’\, )\nHosted by: CBNZ Inc\nPlease register early to ensure a place as spaces are limited.
URL:https://cbnz.org.nz/event/moneymates-kickstarter-cannons-creek/
ATTACH;FMTTYPE=image/jpeg:https://cbnz.org.nz/wp-content/uploads/2021/07/helps-promote-the-rights-of-the-world’s-indigenous-peoples..jpg
END:VEVENT
BEGIN:VEVENT
DTSTART;TZID=Pacific/Auckland:20210623T123000
DTEND;TZID=Pacific/Auckland:20210623T130000
DTSTAMP:20260425T110201
CREATED:20210529T044311Z
LAST-MODIFIED:20210529T044311Z
UID:5180-1624451400-1624453200@cbnz.org.nz
SUMMARY:Coffee\, Korero and Connecting
DESCRIPTION:Aidan Harrison\, biculturalism expert\, continues his series on ‘Honouring Maori\, with Head\, Hand and Heart’.  This is a short\, interactive\, Zoom presentation. \n 
URL:https://cbnz.org.nz/event/coffee-korero-and-connecting/
ORGANIZER;CN="Sarah":MAILTO:sarah@cbnz.org.nz
END:VEVENT
BEGIN:VEVENT
DTSTART;TZID=Pacific/Auckland:20210617T090000
DTEND;TZID=Pacific/Auckland:20210617T163000
DTSTAMP:20260425T110201
CREATED:20210529T043429Z
LAST-MODIFIED:20210529T043638Z
UID:5173-1623920400-1623947400@cbnz.org.nz
SUMMARY:Next Level Strengths-based Training with Alana Billingham
DESCRIPTION:Alana Billingham presents ‘next level’ Strengths-based training. Building upon FinCap’s and CBNZ’s original training programme\, this day will further help you embed your strengths-based practice in your every-day practice as a financial mentor.\nAlana\, an expert in motivational interviewing and negotiation techniques\, will bring her drive\, passion and expertise to us. This practical workshop focusses on the following areas: \n\nGoals – what makes it the right goal? Why is goal setting so important\, and how do we work together to select the right goals?\nLanguage – the importance of language\, and how to provoke change language in your clients\nFeedback coaching with clients – How to work with clients in an ongoing way. How to provide encouragement and guidance without unintentionally using power or patronising behaviours. How to identify and avoid our own internal communication bias traps when interacting with our clients\, families and colleagues.\nGroup coaching focusing on giving support and feedback on real case studies; Strengths-based principles for working with others;  and a reminder of PILLARS principles and why they matter.\n\nAbout Alana\nAlana is a Skillset specialist in negotiation\, investigative interviewing\, resolving conflict and people skills. She coaches executives and team leaders in communication skills and helps teams work together more effectively. She is also Managing Director of Skillset. \nAlana is a relaxed and engaging speaker with a great sense of humour. \nWho can attend?\nAnyone who has already attended ‘Strengths-based Training’ delivered by Fincap/CBNZ since October 2019.   Others with prior learning recognition may apply for consideration.
URL:https://cbnz.org.nz/event/next-level-strengths-based-training-with-alana-billingham/
LOCATION:McFaddens Centre\, 64 McFaddens Road\, Christchurch\, New Zealand
ORGANIZER;CN="Sarah":MAILTO:sarah@cbnz.org.nz
END:VEVENT
END:VCALENDAR